BEGIN:VCALENDAR
VERSION:2.0
PRODID:calendify.com
BEGIN:VEVENT
UID:calendify-session-WGv4ZvQz4Za
DTSTART:20231228T190000Z
SEQUENCE:0
TRANSP:OPAQUE
DTEND:20231228T220000Z
URL:https://calendify.com/session/WGv4ZvQz4Za
LOCATION:Kidspace - Workshopraum in Saal B
SUMMARY:Rollenspiele
CLASS:PUBLIC
DESCRIPTION:https://calendify.com/session/WGv4ZvQz4Za
DTSTAMP:20260423T044525Z
CREATED:20231227T131002Z
LAST-MODIFIED:20240401T142932Z
END:VEVENT
END:VCALENDAR