BEGIN:VCALENDAR
VERSION:2.0
PRODID:calendify.com
BEGIN:VEVENT
UID:calendify-session-WGv4ZvW14Za
DTSTART:20230720T160000Z
SEQUENCE:0
TRANSP:OPAQUE
DTEND:20230720T170000Z
URL:https://calendify.com/session/WGv4ZvW14Za
LOCATION:anderswo
SUMMARY:Fahrrad-Sprechstunde
CLASS:PUBLIC
DESCRIPTION:https://calendify.com/session/WGv4ZvW14Za
DTSTAMP:20260420T133248Z
CREATED:20230806T113705Z
LAST-MODIFIED:20230806T113705Z
END:VEVENT
END:VCALENDAR