BEGIN:VCALENDAR
VERSION:2.0
PRODID:calendify.com
BEGIN:VEVENT
UID:calendify-session-WGv4Zvmr4Za
DTSTART:20231227T130000Z
SEQUENCE:0
TRANSP:OPAQUE
DTEND:20231227T160000Z
URL:https://calendify.com/session/WGv4Zvmr4Za
LOCATION:Chillout Lounge
SUMMARY:Heiko Gogolin
CLASS:PUBLIC
DESCRIPTION:https://calendify.com/session/WGv4Zvmr4Za
DTSTAMP:20260423T043920Z
CREATED:20231227T003002Z
LAST-MODIFIED:20240401T142932Z
END:VEVENT
END:VCALENDAR