BEGIN:VCALENDAR
VERSION:2.0
PRODID:calendify.com
BEGIN:VEVENT
UID:calendify-session-WGv4Zvz14Za
DTSTART:20231230T090000Z
SEQUENCE:0
TRANSP:OPAQUE
DTEND:20231230T100000Z
URL:https://calendify.com/session/WGv4Zvz14Za
LOCATION:Corridor outside Hall 3 near Openlab Augsburg
SUMMARY:Tiny Core Linux - Eine Mini-Einführung in die coolste Linux Distro
CLASS:PUBLIC
DESCRIPTION:https://calendify.com/session/WGv4Zvz14Za
DTSTAMP:20260423T060142Z
CREATED:20231229T181004Z
LAST-MODIFIED:20240401T142934Z
END:VEVENT
END:VCALENDAR