BEGIN:VCALENDAR
VERSION:2.0
PRODID:calendify.com
BEGIN:VEVENT
UID:calendify-session-WZBgW120O1R
DTSTART:20231228T094500Z
SEQUENCE:0
TRANSP:OPAQUE
DTEND:20231228T101500Z
URL:https://calendify.com/session/WZBgW120O1R
LOCATION:Critical Decentralisation Cluster [Saal D]
SUMMARY:Buying and Selling Domain Names in Namecoin (recording)
CLASS:PUBLIC
DESCRIPTION:https://calendify.com/session/WZBgW120O1R
DTSTAMP:20260423T070226Z
CREATED:20231228T101003Z
LAST-MODIFIED:20240401T142932Z
END:VEVENT
END:VCALENDAR