BEGIN:VCALENDAR
VERSION:2.0
PRODID:calendify.com
BEGIN:VEVENT
UID:calendify-session-WZBgW13RO1R
DTSTART:20231229T200000Z
SEQUENCE:0
TRANSP:OPAQUE
DTEND:20231229T210000Z
URL:https://calendify.com/session/WZBgW13RO1R
LOCATION:Bits & Bäume Workshop Space
SUMMARY:Der (humanitäre) Preis ist heiß
CLASS:PUBLIC
DESCRIPTION:https://calendify.com/session/WZBgW13RO1R
DTSTAMP:20260423T030601Z
CREATED:20231226T150002Z
LAST-MODIFIED:20240401T142932Z
END:VEVENT
END:VCALENDAR