BEGIN:VCALENDAR
VERSION:2.0
PRODID:calendify.com
BEGIN:VEVENT
UID:calendify-session-WZBgW1azO1R
DTSTART:20231230T140000Z
SEQUENCE:0
TRANSP:OPAQUE
DTEND:20231230T143000Z
URL:https://calendify.com/session/WZBgW1azO1R
LOCATION:House
SUMMARY:CYCLOPS Awards Ceremony
CLASS:PUBLIC
DESCRIPTION:https://calendify.com/session/WZBgW1azO1R
DTSTAMP:20260421T114338Z
CREATED:20231221T182741Z
LAST-MODIFIED:20240401T142934Z
END:VEVENT
END:VCALENDAR