BEGIN:VCALENDAR
VERSION:2.0
PRODID:calendify.com
BEGIN:VEVENT
UID:calendify-session-WZBgW1k8O1R
DTSTART:20231229T200000Z
SEQUENCE:0
TRANSP:OPAQUE
DTEND:20231229T210000Z
URL:https://calendify.com/session/WZBgW1k8O1R
LOCATION:Unter der Rakete in der Eingangshalle
SUMMARY:Block motorways\, occupy trees and hang up banners – Beginner's w
 orkshop and advanced workshop for activist climbing (Basisworkshop aktivis
 tisches Klettern)
CLASS:PUBLIC
DESCRIPTION:https://calendify.com/session/WZBgW1k8O1R
DTSTAMP:20260423T044120Z
CREATED:20231229T144003Z
LAST-MODIFIED:20240401T142932Z
END:VEVENT
END:VCALENDAR