BEGIN:VCALENDAR
VERSION:2.0
PRODID:calendify.com
BEGIN:VEVENT
UID:calendify-session-WZBgW1pbO1R
DTSTART:20231230T125000Z
SEQUENCE:0
TRANSP:OPAQUE
DTEND:20231230T133000Z
URL:https://calendify.com/session/WZBgW1pbO1R
LOCATION:Saal 1
SUMMARY:Tech(no)fixes beware!
CLASS:PUBLIC
DESCRIPTION:https://calendify.com/session/WZBgW1pbO1R
DTSTAMP:20260423T004101Z
CREATED:20231215T204822Z
LAST-MODIFIED:20240401T142934Z
END:VEVENT
END:VCALENDAR