BEGIN:VCALENDAR
VERSION:2.0
PRODID:calendify.com
BEGIN:VEVENT
UID:calendify-session-WZBgW1q0O1R
DTSTART:20231230T100000Z
SEQUENCE:0
TRANSP:OPAQUE
DTEND:20231230T105000Z
URL:https://calendify.com/session/WZBgW1q0O1R
LOCATION:Saal E
SUMMARY:Science in Science Fiction (Die reale Wissenschaft von Star Trek un
 d Star Wars)
CLASS:PUBLIC
DESCRIPTION:https://calendify.com/session/WZBgW1q0O1R
DTSTAMP:20260423T020013Z
CREATED:20231227T113003Z
LAST-MODIFIED:20240401T142934Z
END:VEVENT
END:VCALENDAR