BEGIN:VCALENDAR
VERSION:2.0
PRODID:calendify.com
BEGIN:VEVENT
UID:calendify-session-WZBgW1xaO1R
DTSTART:20231227T130000Z
SEQUENCE:0
TRANSP:OPAQUE
DTEND:20231227T150000Z
URL:https://calendify.com/session/WZBgW1xaO1R
LOCATION:Kidspace - Workshopraum in Saal B
SUMMARY:Bau deine eigene LED-Lampe
CLASS:PUBLIC
DESCRIPTION:https://calendify.com/session/WZBgW1xaO1R
DTSTAMP:20260423T043950Z
CREATED:20231221T004752Z
LAST-MODIFIED:20240401T142932Z
END:VEVENT
END:VCALENDAR