BEGIN:VCALENDAR
VERSION:2.0
PRODID:calendify.com
BEGIN:VEVENT
UID:calendify-session-WZBgW1zXO1R
DTSTART:20240330T131500Z
SEQUENCE:0
TRANSP:OPAQUE
DTEND:20240330T151500Z
URL:https://calendify.com/session/WZBgW1zXO1R
LOCATION:Hardware Hegging Area - K005
SUMMARY:Surface mount electronics assembly for terrified beginners
CLASS:PUBLIC
DESCRIPTION:https://calendify.com/session/WZBgW1zXO1R
DTSTAMP:20260423T215045Z
CREATED:20240328T125150Z
LAST-MODIFIED:20240401T142841Z
END:VEVENT
END:VCALENDAR