BEGIN:VCALENDAR
VERSION:2.0
PRODID:calendify.com
BEGIN:VEVENT
UID:calendify-session-WZBgWBB8M1R
DTSTART:20240920T130000Z
SEQUENCE:0
TRANSP:OPAQUE
DTEND:20240920T170000Z
URL:https://calendify.com/session/WZBgWBB8M1R
LOCATION:IZ
SUMMARY:Awareness - Eine Vertiefung
CLASS:PUBLIC
DESCRIPTION:https://calendify.com/session/WZBgWBB8M1R
DTSTAMP:20260420T200654Z
CREATED:20241208T220338Z
LAST-MODIFIED:20241208T220338Z
END:VEVENT
END:VCALENDAR