BEGIN:VCALENDAR
VERSION:2.0
PRODID:calendify.com
BEGIN:VEVENT
UID:calendify-session-WZBgWBeXM1R
DTSTART:20241227T161500Z
SEQUENCE:0
TRANSP:OPAQUE
DTEND:20241227T171500Z
URL:https://calendify.com/session/WZBgWBeXM1R
LOCATION:Stage HUFF
SUMMARY:Was tun gegen den Rechtsruck (in Ostdeutschland)? - Solidarität! -
  Das Netzwerk Polylux stellt sich vor!
CLASS:PUBLIC
DESCRIPTION:https://calendify.com/session/WZBgWBeXM1R
DTSTAMP:20260423T230500Z
CREATED:20241227T141458Z
LAST-MODIFIED:20250101T225002Z
END:VEVENT
END:VCALENDAR