BEGIN:VCALENDAR
VERSION:2.0
PRODID:calendify.com
BEGIN:VEVENT
UID:calendify-session-WZBgWBjXM1R
DTSTART:20240922T110000Z
SEQUENCE:0
TRANSP:OPAQUE
DTEND:20240922T114500Z
URL:https://calendify.com/session/WZBgWBjXM1R
LOCATION:Kleiner Saal
SUMMARY:Designing an Open-Source-Hardware Platform
CLASS:PUBLIC
DESCRIPTION:https://calendify.com/session/WZBgWBjXM1R
DTSTAMP:20260420T233017Z
CREATED:20241208T220338Z
LAST-MODIFIED:20241208T220338Z
END:VEVENT
END:VCALENDAR