BEGIN:VCALENDAR
VERSION:2.0
PRODID:calendify.com
BEGIN:VEVENT
UID:calendify-session-WZBgWQQ8O1R
DTSTART:20210206T090500Z
SEQUENCE:0
TRANSP:OPAQUE
DTEND:20210206T093000Z
URL:https://calendify.com/session/WZBgWQQ8O1R
LOCATION:D.hardware.trusted
SUMMARY:Rust\, WebAssembly and open source
CLASS:PUBLIC
DESCRIPTION:https://calendify.com/session/WZBgWQQ8O1R
DTSTAMP:20260424T025014Z
CREATED:20210111T170318Z
LAST-MODIFIED:20210208T224802Z
END:VEVENT
END:VCALENDAR