BEGIN:VCALENDAR
VERSION:2.0
PRODID:calendify.com
BEGIN:VEVENT
UID:calendify-session-WZBgWQR2O1R
DTSTART:20210207T143000Z
SEQUENCE:0
TRANSP:OPAQUE
DTEND:20210207T145000Z
URL:https://calendify.com/session/WZBgWQR2O1R
LOCATION:D.design
SUMMARY:Penpot\, design freedom for teams
CLASS:PUBLIC
DESCRIPTION:https://calendify.com/session/WZBgWQR2O1R
DTSTAMP:20260422T220934Z
CREATED:20210111T170320Z
LAST-MODIFIED:20210208T224804Z
END:VEVENT
END:VCALENDAR