BEGIN:VCALENDAR
VERSION:2.0
PRODID:calendify.com
BEGIN:VEVENT
UID:calendify-session-WZBgWV9XM1R
DTSTART:20220917T130000Z
SEQUENCE:0
TRANSP:OPAQUE
DTEND:20220917T140000Z
URL:https://calendify.com/session/WZBgWV9XM1R
LOCATION:Smart City Schmiede
SUMMARY:Mobilitätsdaten und Menschen
CLASS:PUBLIC
DESCRIPTION:https://calendify.com/session/WZBgWV9XM1R
DTSTAMP:20260420T083417Z
CREATED:20220906T090103Z
LAST-MODIFIED:20220918T215002Z
END:VEVENT
END:VCALENDAR