BEGIN:VCALENDAR
VERSION:2.0
PRODID:calendify.com
BEGIN:VEVENT
UID:calendify-session-WZBgWVXYM1R
DTSTART:20221228T160000Z
SEQUENCE:0
TRANSP:OPAQUE
DTEND:20221228T190000Z
URL:https://calendify.com/session/WZBgWVXYM1R
LOCATION:HDMI (room 3)
SUMMARY:Programming Games in Go for Pretty Much All Platforms
CLASS:PUBLIC
DESCRIPTION:https://calendify.com/session/WZBgWVXYM1R
DTSTAMP:20260421T193729Z
CREATED:20221218T163040Z
LAST-MODIFIED:20221230T225002Z
END:VEVENT
END:VCALENDAR