BEGIN:VCALENDAR
VERSION:2.0
PRODID:calendify.com
BEGIN:VEVENT
UID:calendify-session-WZBgWVqXM1R
DTSTART:20230610T203000Z
SEQUENCE:0
TRANSP:OPAQUE
DTEND:20230610T223000Z
URL:https://calendify.com/session/WZBgWVqXM1R
LOCATION:Lounge DJ & Artists
SUMMARY:cReal
CLASS:PUBLIC
DESCRIPTION:https://calendify.com/session/WZBgWVqXM1R
DTSTAMP:20260422T154309Z
CREATED:20230604T134036Z
LAST-MODIFIED:20230611T215002Z
END:VEVENT
END:VCALENDAR