BEGIN:VCALENDAR
VERSION:2.0
PRODID:calendify.com
BEGIN:VEVENT
UID:calendify-session-WZBgWVr8M1R
DTSTART:20220725T080000Z
SEQUENCE:0
TRANSP:OPAQUE
DTEND:20220725T110000Z
URL:https://calendify.com/session/WZBgWVr8M1R
LOCATION:Area 42 Workshops
SUMMARY:TF Works! - Learn Terraform (and a bit of AWS)
CLASS:PUBLIC
DESCRIPTION:https://calendify.com/session/WZBgWVr8M1R
DTSTAMP:20260423T231321Z
CREATED:20220723T101232Z
LAST-MODIFIED:20220726T182703Z
END:VEVENT
END:VCALENDAR