BEGIN:VCALENDAR
VERSION:2.0
PRODID:calendify.com
BEGIN:VEVENT
UID:calendify-session-WZBgWW9ag1R
DTSTART:20210308T133000Z
SEQUENCE:0
TRANSP:OPAQUE
URL:https://calendify.com/session/WZBgWW9ag1R
LOCATION:Art and Media
SUMMARY:\"Information. What are they looking at?\" Documentary Screening
CLASS:PUBLIC
DESCRIPTION:https://calendify.com/session/WZBgWW9ag1R
DTSTAMP:20260422T165650Z
CREATED:20210426T094927Z
LAST-MODIFIED:20210426T094927Z
END:VEVENT
END:VCALENDAR