BEGIN:VCALENDAR
VERSION:2.0
PRODID:calendify.com
BEGIN:VEVENT
UID:calendify-session-WZBgWWJYg1R
DTSTART:20220206T103000Z
SEQUENCE:0
TRANSP:OPAQUE
DTEND:20220206T110000Z
URL:https://calendify.com/session/WZBgWWJYg1R
LOCATION:D.hpc
SUMMARY:Multidimensional Bloom Filters
CLASS:PUBLIC
DESCRIPTION:https://calendify.com/session/WZBgWWJYg1R
DTSTAMP:20260422T181035Z
CREATED:20220120T214608Z
LAST-MODIFIED:20220206T225004Z
END:VEVENT
END:VCALENDAR