BEGIN:VCALENDAR
VERSION:2.0
PRODID:calendify.com
BEGIN:VEVENT
UID:calendify-session-WZBgWWL7g1R
DTSTART:20211227T170000Z
SEQUENCE:0
TRANSP:OPAQUE
DTEND:20211227T180000Z
URL:https://calendify.com/session/WZBgWWL7g1R
LOCATION:franconian.net
SUMMARY:Tox CryptoParty - Install a Tox Client and have some fun with it
CLASS:PUBLIC
DESCRIPTION:https://calendify.com/session/WZBgWWL7g1R
DTSTAMP:20260423T001319Z
CREATED:20211220T014016Z
LAST-MODIFIED:20211230T225002Z
END:VEVENT
END:VCALENDAR