BEGIN:VCALENDAR
VERSION:2.0
PRODID:calendify.com
BEGIN:VEVENT
UID:calendify-session-WZBgWWV0g1R
DTSTART:20210318T120000Z
SEQUENCE:0
TRANSP:OPAQUE
DTEND:20210318T130000Z
URL:https://calendify.com/session/WZBgWWV0g1R
LOCATION:Zoom Room 1B
SUMMARY:Making AI Matter Panel - Explore How to Solve Global Health With Us
CLASS:PUBLIC
DESCRIPTION:https://calendify.com/session/WZBgWWV0g1R
DTSTAMP:20260422T073246Z
CREATED:20210426T094929Z
LAST-MODIFIED:20210426T094929Z
END:VEVENT
END:VCALENDAR