BEGIN:VCALENDAR
VERSION:2.0
PRODID:calendify.com
BEGIN:VEVENT
UID:calendify-session-WZBgWWzRg1R
DTSTART:20220205T110000Z
SEQUENCE:0
TRANSP:OPAQUE
DTEND:20220205T112500Z
URL:https://calendify.com/session/WZBgWWzRg1R
LOCATION:D.trusted-hardware
SUMMARY:Symbolic Validation of SGX enclaves using Guardian 
CLASS:PUBLIC
DESCRIPTION:https://calendify.com/session/WZBgWWzRg1R
DTSTAMP:20260420T034618Z
CREATED:20220120T214602Z
LAST-MODIFIED:20220206T225002Z
END:VEVENT
END:VCALENDAR