BEGIN:VCALENDAR
VERSION:2.0
PRODID:calendify.com
BEGIN:VEVENT
UID:calendify-session-WZBgWX2741R
DTSTART:20200201T093000Z
SEQUENCE:0
TRANSP:OPAQUE
DTEND:20200201T100000Z
URL:https://calendify.com/session/WZBgWX2741R
LOCATION:UB2.147
SUMMARY:Improving the culture of automated testing in FOSS
CLASS:PUBLIC
DESCRIPTION:https://calendify.com/session/WZBgWX2741R
DTSTAMP:20260420T185608Z
CREATED:20200513T234730Z
LAST-MODIFIED:20210426T093308Z
END:VEVENT
END:VCALENDAR