BEGIN:VCALENDAR
VERSION:2.0
PRODID:calendify.com
BEGIN:VEVENT
UID:calendify-session-WZBgWXRK41R
DTSTART:20190601T154500Z
SEQUENCE:0
TRANSP:OPAQUE
DTEND:20190601T164500Z
URL:https://calendify.com/session/WZBgWXRK41R
LOCATION:ZKM_Medientheater
SUMMARY:Lightning Talks powered by Haecksen
CLASS:PUBLIC
DESCRIPTION:https://calendify.com/session/WZBgWXRK41R
DTSTAMP:20260422T022625Z
CREATED:20200509T115114Z
LAST-MODIFIED:20200509T115114Z
END:VEVENT
END:VCALENDAR