BEGIN:VCALENDAR
VERSION:2.0
PRODID:calendify.com
BEGIN:VEVENT
UID:calendify-session-WZBgWXjK41R
DTSTART:20190601T203000Z
SEQUENCE:0
TRANSP:OPAQUE
DTEND:20190601T223000Z
URL:https://calendify.com/session/WZBgWXjK41R
LOCATION:Anderswo
SUMMARY:Rope Bondage Basics
CLASS:PUBLIC
DESCRIPTION:https://calendify.com/session/WZBgWXjK41R
DTSTAMP:20260422T023124Z
CREATED:20200509T115128Z
LAST-MODIFIED:20200509T115128Z
END:VEVENT
END:VCALENDAR