BEGIN:VCALENDAR
VERSION:2.0
PRODID:calendify.com
BEGIN:VEVENT
UID:calendify-session-WZBgWXl841R
DTSTART:20180510T203000Z
SEQUENCE:0
TRANSP:OPAQUE
DTEND:20180510T213000Z
URL:https://calendify.com/session/WZBgWXl841R
LOCATION:ZKM_Medientheater
SUMMARY:Alles was ihr schon immer über Glasfasern wissen wolltet
CLASS:PUBLIC
DESCRIPTION:https://calendify.com/session/WZBgWXl841R
DTSTAMP:20260420T141025Z
CREATED:20200513T011827Z
LAST-MODIFIED:20200513T011827Z
END:VEVENT
END:VCALENDAR