BEGIN:VCALENDAR
VERSION:2.0
PRODID:calendify.com
BEGIN:VEVENT
UID:calendify-session-WZBgWXnb41R
DTSTART:20200201T122000Z
SEQUENCE:0
TRANSP:OPAQUE
DTEND:20200201T123500Z
URL:https://calendify.com/session/WZBgWXnb41R
LOCATION:UD2.119
SUMMARY:Percona XtraBackup Current and Future State
CLASS:PUBLIC
DESCRIPTION:https://calendify.com/session/WZBgWXnb41R
DTSTAMP:20260422T153428Z
CREATED:20200513T234731Z
LAST-MODIFIED:20210426T093308Z
END:VEVENT
END:VCALENDAR