BEGIN:VCALENDAR
VERSION:2.0
PRODID:calendify.com
BEGIN:VEVENT
UID:calendify-session-WZBgWXx841R
DTSTART:20180511T140000Z
SEQUENCE:0
TRANSP:OPAQUE
DTEND:20180511T150000Z
URL:https://calendify.com/session/WZBgWXx841R
LOCATION:ZKM_Vortragssaal
SUMMARY:Open Source in High-Performance Networks
CLASS:PUBLIC
DESCRIPTION:https://calendify.com/session/WZBgWXx841R
DTSTAMP:20260422T031103Z
CREATED:20200513T011827Z
LAST-MODIFIED:20200513T011827Z
END:VEVENT
END:VCALENDAR