BEGIN:VCALENDAR
VERSION:2.0
PRODID:calendify.com
BEGIN:VEVENT
UID:calendify-session-WZBgWZJXM1R
DTSTART:20191228T161000Z
SEQUENCE:0
TRANSP:OPAQUE
DTEND:20191228T165000Z
URL:https://calendify.com/session/WZBgWZJXM1R
LOCATION:Dijkstra
SUMMARY:Die Zukunft grenzüberschreitenden Datenzugriffs und politischer Ve
 rfolgung
CLASS:PUBLIC
DESCRIPTION:https://calendify.com/session/WZBgWZJXM1R
DTSTAMP:20260423T122301Z
CREATED:20200429T014057Z
LAST-MODIFIED:20200429T014057Z
END:VEVENT
END:VCALENDAR