BEGIN:VCALENDAR
VERSION:2.0
PRODID:calendify.com
BEGIN:VEVENT
UID:calendify-session-WZBgWbQaM1R
DTSTART:20170525T153000Z
SEQUENCE:0
TRANSP:OPAQUE
DTEND:20170525T163000Z
URL:https://calendify.com/session/WZBgWbQaM1R
LOCATION:Studio
SUMMARY:Towards a more secure operating system without sacrificing usabilit
 y
CLASS:PUBLIC
DESCRIPTION:https://calendify.com/session/WZBgWbQaM1R
DTSTAMP:20260423T191558Z
CREATED:20220415T133515Z
LAST-MODIFIED:20220415T133515Z
END:VEVENT
END:VCALENDAR