BEGIN:VCALENDAR
VERSION:2.0
PRODID:calendify.com
BEGIN:VEVENT
UID:calendify-session-WZBgWbkbM1R
DTSTART:20220608T173000Z
SEQUENCE:0
TRANSP:OPAQUE
DTEND:20220608T183000Z
URL:https://calendify.com/session/WZBgWbkbM1R
LOCATION:Meetup Blue
SUMMARY:Embassy of the Republic of Užupis to Munich
CLASS:PUBLIC
DESCRIPTION:https://calendify.com/session/WZBgWbkbM1R
DTSTAMP:20260419T124527Z
CREATED:20220526T162947Z
LAST-MODIFIED:20220613T235204Z
END:VEVENT
END:VCALENDAR