BEGIN:VCALENDAR
VERSION:2.0
PRODID:calendify.com
BEGIN:VEVENT
UID:calendify-session-WZBgWbyYM1R
DTSTART:20220609T153000Z
SEQUENCE:0
TRANSP:OPAQUE
DTEND:20220609T163000Z
URL:https://calendify.com/session/WZBgWbyYM1R
LOCATION:Lightning Box 1
SUMMARY:Ist das alles nur Greenwashing? Eine GPS-Jagd rund um die Welt und 
 was wir daraus für eine bessere Wirtschaft lernen können!
CLASS:PUBLIC
DESCRIPTION:https://calendify.com/session/WZBgWbyYM1R
DTSTAMP:20260423T150942Z
CREATED:20220526T162944Z
LAST-MODIFIED:20220613T235204Z
END:VEVENT
END:VCALENDAR