BEGIN:VCALENDAR
VERSION:2.0
PRODID:calendify.com
BEGIN:VEVENT
UID:calendify-session-WZBgWja0M1R
DTSTART:20260201T133500Z
SEQUENCE:0
TRANSP:OPAQUE
DTEND:20260201T135500Z
URL:https://calendify.com/session/WZBgWja0M1R
LOCATION:H.2214
SUMMARY:SSH logins in practice: certificates vs. OPKSSH
CLASS:PUBLIC
DESCRIPTION:https://calendify.com/session/WZBgWja0M1R
DTSTAMP:20260424T113041Z
CREATED:20260131T063315Z
LAST-MODIFIED:20260201T163231Z
END:VEVENT
END:VCALENDAR