BEGIN:VCALENDAR
VERSION:2.0
PRODID:calendify.com
BEGIN:VEVENT
UID:calendify-session-XpBMR1owOar
DTSTART:20260131T143000Z
SEQUENCE:0
TRANSP:OPAQUE
DTEND:20260131T150000Z
URL:https://calendify.com/session/XpBMR1owOar
LOCATION:UA2.220 (Guillissen)
SUMMARY:The GIL and API Performance: Past\, Present\, and Free-Threaded Fut
 ure
CLASS:PUBLIC
DESCRIPTION:https://calendify.com/session/XpBMR1owOar
DTSTAMP:20260424T101002Z
CREATED:20260131T063253Z
LAST-MODIFIED:20260201T163222Z
END:VEVENT
END:VCALENDAR