BEGIN:VCALENDAR
VERSION:2.0
PRODID:calendify.com
BEGIN:VEVENT
UID:calendify-session-XpBMRN1wMar
DTSTART:20221228T130000Z
SEQUENCE:0
TRANSP:OPAQUE
DTEND:20221228T131000Z
URL:https://calendify.com/session/XpBMRN1wMar
LOCATION:WICMP Seminarraum
SUMMARY:TelnetSnakeBotWettbewerb (Start)
CLASS:PUBLIC
DESCRIPTION:https://calendify.com/session/XpBMRN1wMar
DTSTAMP:20260422T174531Z
CREATED:20221227T012006Z
LAST-MODIFIED:20221230T225006Z
END:VEVENT
END:VCALENDAR