BEGIN:VCALENDAR
VERSION:2.0
PRODID:calendify.com
BEGIN:VEVENT
UID:calendify-session-XpBMRNRwMar
DTSTART:20221227T124500Z
SEQUENCE:0
TRANSP:OPAQUE
DTEND:20221227T141500Z
URL:https://calendify.com/session/XpBMRNRwMar
LOCATION:Stände - H2-4.8
SUMMARY:Fachstelle Pop Infostand
CLASS:PUBLIC
DESCRIPTION:https://calendify.com/session/XpBMRNRwMar
DTSTAMP:20260423T104812Z
CREATED:20221224T133615Z
LAST-MODIFIED:20221230T225007Z
END:VEVENT
END:VCALENDAR