BEGIN:VCALENDAR
VERSION:2.0
PRODID:calendify.com
BEGIN:VEVENT
UID:calendify-session-XpBMRNVRMar
DTSTART:20230608T160000Z
SEQUENCE:0
TRANSP:OPAQUE
DTEND:20230608T190000Z
URL:https://calendify.com/session/XpBMRNVRMar
LOCATION:Lounge VJ
SUMMARY:d̸ ́is̷̅͊c̶̄o̶̸ ͋ d̴̍ e̵ r̒ s̶̸͝ ̏
CLASS:PUBLIC
DESCRIPTION:https://calendify.com/session/XpBMRNVRMar
DTSTAMP:20260423T121714Z
CREATED:20230604T134035Z
LAST-MODIFIED:20230611T215002Z
END:VEVENT
END:VCALENDAR