BEGIN:VCALENDAR
VERSION:2.0
PRODID:calendify.com
BEGIN:VEVENT
UID:calendify-session-XpBMRNv2Mar
DTSTART:20230605T103000Z
SEQUENCE:0
TRANSP:OPAQUE
DTEND:20230605T113000Z
URL:https://calendify.com/session/XpBMRNv2Mar
LOCATION:ARD Perspective Lab
SUMMARY:„Ist ChatGPT das neue...” „Nein!” // Über die Schwierigkei
 t\, eine KI mit Fakten zu koppeln
CLASS:PUBLIC
DESCRIPTION:https://calendify.com/session/XpBMRNv2Mar
DTSTAMP:20260422T124207Z
CREATED:20230604T163758Z
LAST-MODIFIED:20230606T124205Z
END:VEVENT
END:VCALENDAR