BEGIN:VCALENDAR
VERSION:2.0
PRODID:calendify.com
BEGIN:VEVENT
UID:calendify-session-XpBMRP2W4ar
DTSTART:20220609T103000Z
SEQUENCE:0
TRANSP:OPAQUE
DTEND:20220609T123000Z
URL:https://calendify.com/session/XpBMRP2W4ar
LOCATION:Workshop J
SUMMARY:Is this the real life - is it just fantasy? Ideenwerkstatt für pro
 duktiven Zukunftsoptimismus
CLASS:PUBLIC
DESCRIPTION:https://calendify.com/session/XpBMRP2W4ar
DTSTAMP:20260419T122909Z
CREATED:20220526T162945Z
LAST-MODIFIED:20220613T235204Z
END:VEVENT
END:VCALENDAR