BEGIN:VCALENDAR
VERSION:2.0
PRODID:calendify.com
BEGIN:VEVENT
UID:calendify-session-XpBMRPK84ar
DTSTART:20220521T171500Z
SEQUENCE:0
TRANSP:OPAQUE
DTEND:20220521T174500Z
URL:https://calendify.com/session/XpBMRPK84ar
LOCATION:Blauer Salon
SUMMARY:Standardizing error codes: Introducing Serum\, and the Serum Analyz
 er for Golang
CLASS:PUBLIC
DESCRIPTION:https://calendify.com/session/XpBMRPK84ar
DTSTAMP:20260424T082027Z
CREATED:20220502T005752Z
LAST-MODIFIED:20220521T215002Z
END:VEVENT
END:VCALENDAR