BEGIN:VCALENDAR
VERSION:2.0
PRODID:calendify.com
BEGIN:VEVENT
UID:calendify-session-XpBMRPNm4ar
DTSTART:20161228T193000Z
SEQUENCE:0
TRANSP:OPAQUE
DTEND:20161228T203000Z
URL:https://calendify.com/session/XpBMRPNm4ar
LOCATION:Saal 2
SUMMARY:Build your own NSA
CLASS:PUBLIC
DESCRIPTION:https://calendify.com/session/XpBMRPNm4ar
DTSTAMP:20260420T183904Z
CREATED:20220415T135303Z
LAST-MODIFIED:20220415T135303Z
END:VEVENT
END:VCALENDAR