BEGIN:VCALENDAR
VERSION:2.0
PRODID:calendify.com
BEGIN:VEVENT
UID:calendify-session-XpBMRPRP4ar
DTSTART:20151227T130000Z
SEQUENCE:0
TRANSP:OPAQUE
DTEND:20151227T140000Z
URL:https://calendify.com/session/XpBMRPRP4ar
LOCATION:Hall 2
SUMMARY:rad1o++
CLASS:PUBLIC
DESCRIPTION:https://calendify.com/session/XpBMRPRP4ar
DTSTAMP:20260421T201901Z
CREATED:20220415T142917Z
LAST-MODIFIED:20220415T142917Z
END:VEVENT
END:VCALENDAR