BEGIN:VCALENDAR
VERSION:2.0
PRODID:calendify.com
BEGIN:VEVENT
UID:calendify-session-XpBMRPb24ar
DTSTART:20220206T143000Z
SEQUENCE:0
TRANSP:OPAQUE
DTEND:20220206T150000Z
URL:https://calendify.com/session/XpBMRPb24ar
LOCATION:D.libreoffice
SUMMARY:Collabora Online on kubernetes
CLASS:PUBLIC
DESCRIPTION:https://calendify.com/session/XpBMRPb24ar
DTSTAMP:20260420T092343Z
CREATED:20220120T214608Z
LAST-MODIFIED:20220206T225004Z
END:VEVENT
END:VCALENDAR