BEGIN:VCALENDAR
VERSION:2.0
PRODID:calendify.com
BEGIN:VEVENT
UID:calendify-session-XpBMRXD24ar
DTSTART:20240530T174500Z
SEQUENCE:0
TRANSP:OPAQUE
DTEND:20240530T184500Z
URL:https://calendify.com/session/XpBMRXD24ar
LOCATION:ZKM Kubus
SUMMARY:USB\, wie funktioniert das eigentlich? Certified USB4 (Version 2.0)
CLASS:PUBLIC
DESCRIPTION:https://calendify.com/session/XpBMRXD24ar
DTSTAMP:20260422T163217Z
CREATED:20240531T122738Z
LAST-MODIFIED:20240602T132303Z
END:VEVENT
END:VCALENDAR