BEGIN:VCALENDAR
VERSION:2.0
PRODID:calendify.com
BEGIN:VEVENT
UID:calendify-session-XpBMRXaj4ar
DTSTART:20231227T130000Z
SEQUENCE:0
TRANSP:OPAQUE
DTEND:20231227T160000Z
URL:https://calendify.com/session/XpBMRXaj4ar
LOCATION:Lounge
SUMMARY:Hackin the Disco
CLASS:PUBLIC
DESCRIPTION:https://calendify.com/session/XpBMRXaj4ar
DTSTAMP:20260423T015717Z
CREATED:20231226T161002Z
LAST-MODIFIED:20240401T142932Z
END:VEVENT
END:VCALENDAR