BEGIN:VCALENDAR
VERSION:2.0
PRODID:calendify.com
BEGIN:VEVENT
UID:calendify-session-XpBMRXdq4ar
DTSTART:20240503T190000Z
SEQUENCE:0
TRANSP:OPAQUE
DTEND:20240503T195000Z
URL:https://calendify.com/session/XpBMRXdq4ar
LOCATION:Kino 5
SUMMARY:OpenWrt-Portierung für Quereinsteiger
CLASS:PUBLIC
DESCRIPTION:https://calendify.com/session/XpBMRXdq4ar
DTSTAMP:20260420T235028Z
CREATED:20240531T124354Z
LAST-MODIFIED:20240531T124354Z
END:VEVENT
END:VCALENDAR